BEGIN:VCALENDAR
VERSION:2.0
PRODID:-//Primer Tribunal Electoral Metropolitano - ECPv6.15.20//NONSGML v1.0//EN
CALSCALE:GREGORIAN
METHOD:PUBLISH
X-WR-CALNAME:Primer Tribunal Electoral Metropolitano
X-ORIGINAL-URL:https://www.primertribunalelectoral.cl
X-WR-CALDESC:Eventos para Primer Tribunal Electoral Metropolitano
REFRESH-INTERVAL;VALUE=DURATION:PT1H
X-Robots-Tag:noindex
X-PUBLISHED-TTL:PT1H
BEGIN:VTIMEZONE
TZID:America/Sao_Paulo
BEGIN:STANDARD
TZOFFSETFROM:-0300
TZOFFSETTO:-0300
TZNAME:-03
DTSTART:20210101T000000
END:STANDARD
END:VTIMEZONE
BEGIN:VEVENT
DTSTART;TZID=America/Sao_Paulo:20220926T000000
DTEND;TZID=America/Sao_Paulo:20221002T000000
DTSTAMP:20260421T043232
CREATED:20220630T221033Z
LAST-MODIFIED:20220630T221033Z
UID:4041-1664150400-1664668800@www.primertribunalelectoral.cl
SUMMARY:Segundo Tribunal Electoral
DESCRIPTION:De Turno: Segundo Tribunal Electoral
URL:https://www.primertribunalelectoral.cl/calendar/segundo-tribunal-electoral-10/
CATEGORIES:Segundo tribunal
END:VEVENT
BEGIN:VEVENT
DTSTART;TZID=America/Sao_Paulo:20221010T000000
DTEND;TZID=America/Sao_Paulo:20221016T000000
DTSTAMP:20260421T043232
CREATED:20220630T221217Z
LAST-MODIFIED:20220725T122449Z
UID:4045-1665360000-1665878400@www.primertribunalelectoral.cl
SUMMARY:Segundo Tribunal Electoral
DESCRIPTION:De Turno: Segundo Tribunal Electoral
URL:https://www.primertribunalelectoral.cl/calendar/segundo-tribunal-electoral-11/
CATEGORIES:Segundo tribunal
END:VEVENT
BEGIN:VEVENT
DTSTART;TZID=America/Sao_Paulo:20221024T000000
DTEND;TZID=America/Sao_Paulo:20221030T000000
DTSTAMP:20260421T043232
CREATED:20220630T221356Z
LAST-MODIFIED:20220630T221356Z
UID:4049-1666569600-1667088000@www.primertribunalelectoral.cl
SUMMARY:Segundo Tribunal Electoral
DESCRIPTION:De Turno: Segundo Tribunal Electoral
URL:https://www.primertribunalelectoral.cl/calendar/segundo-tribunal-electoral-12/
CATEGORIES:Segundo tribunal
END:VEVENT
END:VCALENDAR