BEGIN:VCALENDAR
VERSION:2.0
PRODID:-//Primer Tribunal Electoral Metropolitano - ECPv6.15.20//NONSGML v1.0//EN
CALSCALE:GREGORIAN
METHOD:PUBLISH
X-ORIGINAL-URL:https://www.primertribunalelectoral.cl
X-WR-CALDESC:Eventos para Primer Tribunal Electoral Metropolitano
REFRESH-INTERVAL;VALUE=DURATION:PT1H
X-Robots-Tag:noindex
X-PUBLISHED-TTL:PT1H
BEGIN:VTIMEZONE
TZID:America/Sao_Paulo
BEGIN:STANDARD
TZOFFSETFROM:-0300
TZOFFSETTO:-0300
TZNAME:-03
DTSTART:20210101T000000
END:STANDARD
END:VTIMEZONE
BEGIN:VEVENT
DTSTART;TZID=America/Sao_Paulo:20220328T000000
DTEND;TZID=America/Sao_Paulo:20220403T000000
DTSTAMP:20260420T225155
CREATED:20220323T161352Z
LAST-MODIFIED:20220329T123252Z
UID:3967-1648425600-1648944000@www.primertribunalelectoral.cl
SUMMARY:Segundo Tribunal Electoral
DESCRIPTION:De Turno: Segundo Tribunal Electoral
URL:https://www.primertribunalelectoral.cl/calendar/de-turno-10/
CATEGORIES:Segundo tribunal
END:VEVENT
BEGIN:VEVENT
DTSTART;TZID=America/Sao_Paulo:20220411T000000
DTEND;TZID=America/Sao_Paulo:20220417T000000
DTSTAMP:20260420T225155
CREATED:20220329T164636Z
LAST-MODIFIED:20220329T164636Z
UID:3978-1649635200-1650153600@www.primertribunalelectoral.cl
SUMMARY:Segundo Tribunal Electoral
DESCRIPTION:De Turno: Segundo Tribunal Electoral
URL:https://www.primertribunalelectoral.cl/calendar/segundo-tribunal-electoral/
CATEGORIES:Segundo tribunal
END:VEVENT
BEGIN:VEVENT
DTSTART;TZID=America/Sao_Paulo:20220425T000000
DTEND;TZID=America/Sao_Paulo:20220501T000000
DTSTAMP:20260420T225155
CREATED:20220329T164843Z
LAST-MODIFIED:20220329T164843Z
UID:3982-1650844800-1651363200@www.primertribunalelectoral.cl
SUMMARY:Segundo Tribunal Electoral
DESCRIPTION:De Turno: Segundo Tribunal Electoral
URL:https://www.primertribunalelectoral.cl/calendar/segundo-tribunal-electoral-2/
CATEGORIES:Segundo tribunal
END:VEVENT
END:VCALENDAR